BEGIN:VCALENDAR
VERSION:2.0
PRODID:-//Compagnie Amarêve - ECPv6.15.20//NONSGML v1.0//EN
CALSCALE:GREGORIAN
METHOD:PUBLISH
X-WR-CALNAME:Compagnie Amarêve
X-ORIGINAL-URL:https://amareve.fr/en_en
X-WR-CALDESC:Events for Compagnie Amarêve
REFRESH-INTERVAL;VALUE=DURATION:PT1H
X-Robots-Tag:noindex
X-PUBLISHED-TTL:PT1H
BEGIN:VTIMEZONE
TZID:UTC
BEGIN:STANDARD
TZOFFSETFROM:+0000
TZOFFSETTO:+0000
TZNAME:UTC
DTSTART:20220101T000000
END:STANDARD
END:VTIMEZONE
BEGIN:VEVENT
DTSTART;TZID=UTC:20231208T080000
DTEND;TZID=UTC:20241208T160000
DTSTAMP:20260423T113951
CREATED:20240214T162215Z
LAST-MODIFIED:20240214T162215Z
UID:2299-1702022400-1733673600@amareve.fr
SUMMARY:Ateliers "Préparation aux techniques de l'oral"
DESCRIPTION:Collège Jean-Roch Coignet\, Courson-les-Carrières\nClasses de 4e
URL:https://amareve.fr/en_en/event/ateliers-preparation-aux-techniques-de-loral-2/
CATEGORIES:EAC
END:VEVENT
BEGIN:VEVENT
DTSTART;TZID=UTC:20231222T080000
DTEND;TZID=UTC:20241222T160000
DTSTAMP:20260423T113951
CREATED:20240214T162259Z
LAST-MODIFIED:20240214T162259Z
UID:2301-1703232000-1734883200@amareve.fr
SUMMARY:Ateliers "Préparation aux techniques de l'oral"
DESCRIPTION:Collège Jean-Roch Coignet\, Courson-les-Carrières\nClasses de 4e
URL:https://amareve.fr/en_en/event/ateliers-preparation-aux-techniques-de-loral-4/
CATEGORIES:EAC
END:VEVENT
BEGIN:VEVENT
DTSTART;TZID=UTC:20241010T140000
DTEND;TZID=UTC:20241010T170000
DTSTAMP:20260423T113951
CREATED:20241202T101637Z
LAST-MODIFIED:20241202T101740Z
UID:3317-1728568800-1728579600@amareve.fr
SUMMARY:Ateliers "Écrire sur soi"
DESCRIPTION:Collège Josquin des Prés – Beaurevoir – Avec Chemins d’Avenir
URL:https://amareve.fr/en_en/event/ateliers-ecrire-sur-soi-2/
CATEGORIES:EAC
END:VEVENT
END:VCALENDAR