BEGIN:VCALENDAR
VERSION:2.0
PRODID:-//Compagnie Amarêve - ECPv6.15.20//NONSGML v1.0//EN
CALSCALE:GREGORIAN
METHOD:PUBLISH
X-ORIGINAL-URL:https://amareve.fr/en_en
X-WR-CALDESC:Events for Compagnie Amarêve
REFRESH-INTERVAL;VALUE=DURATION:PT1H
X-Robots-Tag:noindex
X-PUBLISHED-TTL:PT1H
BEGIN:VTIMEZONE
TZID:UTC
BEGIN:STANDARD
TZOFFSETFROM:+0000
TZOFFSETTO:+0000
TZNAME:UTC
DTSTART:20240101T000000
END:STANDARD
END:VTIMEZONE
BEGIN:VEVENT
DTSTART;TZID=UTC:20250220T080000
DTEND;TZID=UTC:20250401T170000
DTSTAMP:20260423T183244
CREATED:20250626T081622Z
LAST-MODIFIED:20250626T081622Z
UID:3357-1740038400-1743526800@amareve.fr
SUMMARY:Courgette\, Gilles Paris - CLEA Tannay-Brinon-Corbigny
DESCRIPTION:20-21 février + 23-24 mars : travail théâtral autour de Autobiographie d’une Courgette de Gilles Paris avec la classe de CE2-CM2 de Sardy-Les-Épiry \n01 avril : Représentation de Courgette au Théâtre d’Auxerre par la compagnie Paradoxes. \n 
URL:https://amareve.fr/en_en/event/courgette-gilles-paris-clea-tannay-brinon-corbigny/
END:VEVENT
END:VCALENDAR