BEGIN:VCALENDAR
VERSION:2.0
PRODID:-//Compagnie Amarêve - ECPv6.15.20//NONSGML v1.0//EN
CALSCALE:GREGORIAN
METHOD:PUBLISH
X-ORIGINAL-URL:https://amareve.fr
X-WR-CALDESC:Évènements pour Compagnie Amarêve
REFRESH-INTERVAL;VALUE=DURATION:PT1H
X-Robots-Tag:noindex
X-PUBLISHED-TTL:PT1H
BEGIN:VTIMEZONE
TZID:UTC
BEGIN:STANDARD
TZOFFSETFROM:+0000
TZOFFSETTO:+0000
TZNAME:UTC
DTSTART:20150101T000000
END:STANDARD
END:VTIMEZONE
BEGIN:VEVENT
DTSTART;TZID=UTC:20160626T080000
DTEND;TZID=UTC:20230628T170000
DTSTAMP:20260425T154946
CREATED:20230222T101311Z
LAST-MODIFIED:20230222T102354Z
UID:1945-1466928000-1687971600@amareve.fr
SUMMARY:Invitation poétique\, Florian Rebeyrolle
DESCRIPTION:Avec la participation du Quatuor Pacerel et d’Audrey Weissberg\, Exposition et spectacle lors du Salon du Livre de Cosne-sur-Loire
URL:https://amareve.fr/event/invitation-poetique-2/
CATEGORIES:SPECTACLE PROFESSIONNEL
END:VEVENT
BEGIN:VEVENT
DTSTART;TZID=UTC:20181110T200000
DTEND;TZID=UTC:20181110T200000
DTSTAMP:20260425T154946
CREATED:20230222T100507Z
LAST-MODIFIED:20230222T100507Z
UID:1937-1541880000-1541880000@amareve.fr
SUMMARY:À Fleur de rêve\, Florian Rebeyrolle
DESCRIPTION:Théâtre de la Jonquière\, Paris – Avec Isabelle Couloigner\, Laurent Dève\, Raphaël Plockyn\, Audrey Weissberg – Création lumière Marilyn-Étienne-Bon
URL:https://amareve.fr/event/a-fleur-de-reve-florian-rebeyrolle-4/
CATEGORIES:SPECTACLE PROFESSIONNEL
ATTACH;FMTTYPE=image/jpeg:https://amareve.fr/wp-content/uploads/2019/04/AFDR-Affiche.jpg
END:VEVENT
END:VCALENDAR