BEGIN:VCALENDAR
VERSION:2.0
PRODID:-//Compagnie Amarêve - ECPv6.15.20//NONSGML v1.0//EN
CALSCALE:GREGORIAN
METHOD:PUBLISH
X-ORIGINAL-URL:https://amareve.fr
X-WR-CALDESC:Évènements pour Compagnie Amarêve
REFRESH-INTERVAL;VALUE=DURATION:PT1H
X-Robots-Tag:noindex
X-PUBLISHED-TTL:PT1H
BEGIN:VTIMEZONE
TZID:UTC
BEGIN:STANDARD
TZOFFSETFROM:+0000
TZOFFSETTO:+0000
TZNAME:UTC
DTSTART:20220101T000000
END:STANDARD
END:VTIMEZONE
BEGIN:VEVENT
DTSTART;TZID=UTC:20230504T080000
DTEND;TZID=UTC:20230504T120000
DTSTAMP:20260421T083340
CREATED:20231207T163227Z
LAST-MODIFIED:20231207T163721Z
UID:2279-1683187200-1683201600@amareve.fr
SUMMARY:Atelier "Introduction au jeu théâtral"
DESCRIPTION:Collège Le Mont Châtelet – Varzy – Avec Chemins d’Avenir
URL:https://amareve.fr/event/atelier-introduction-au-jeu-theatral-3/
CATEGORIES:EAC
END:VEVENT
BEGIN:VEVENT
DTSTART;TZID=UTC:20230505T080000
DTEND;TZID=UTC:20230505T120000
DTSTAMP:20260421T083340
CREATED:20231207T163341Z
LAST-MODIFIED:20231207T163716Z
UID:2281-1683273600-1683288000@amareve.fr
SUMMARY:Atelier "Introduction au jeu théâtral"
DESCRIPTION:Collège Les Courlis / Lycée Raoul Follereau – Nevers – Avec Chemins d’Avenir
URL:https://amareve.fr/event/atelier-introduction-au-jeu-theatral-4/
CATEGORIES:EAC
END:VEVENT
BEGIN:VEVENT
DTSTART;TZID=UTC:20230525T190000
DTEND;TZID=UTC:20230525T190000
DTSTAMP:20260421T083340
CREATED:20230217T154216Z
LAST-MODIFIED:20230217T163140Z
UID:1766-1685041200-1685041200@amareve.fr
SUMMARY:Petit Pierre\, Suzanne Lebeau
DESCRIPTION:Lycée professionnel Le Mont-Chatelet\nAvec les élèves de Ferronnerie et de Chaudronnerie du Lycée de Varzy
URL:https://amareve.fr/event/petit-pierre-suzanne-lebeau-lycee-varzy/
CATEGORIES:EAC
END:VEVENT
BEGIN:VEVENT
DTSTART;TZID=UTC:20230526T190000
DTEND;TZID=UTC:20230526T190000
DTSTAMP:20260421T083340
CREATED:20230217T105741Z
LAST-MODIFIED:20230221T113506Z
UID:1730-1685127600-1685127600@amareve.fr
SUMMARY:Petit Pierre\, Suzanne Lebeau
DESCRIPTION:Cité du Mot\, Charité-sur-Loire\nAvec les élèves de Ferronnerie et de Chaudronnerie du Lycée de Varzy
URL:https://amareve.fr/event/petit_pierre_varzy/
CATEGORIES:EAC
END:VEVENT
END:VCALENDAR